BEGIN:VCALENDAR
VERSION:2.0
PRODID:SchoolNow
CALSCALE:GREGORIAN
BEGIN:VEVENT
UID:2d6690e0-8d76-11f0-a9ef-0e85b1ffd38d
DTSTAMP:20250909T121155Z
SUMMARY:Highland Trails CDD Meeting May 2026
LOCATION:Hilton Garden Inn\, 26640 Silver Maple Parkway\, Wesley Chapel\, F
 lorida 33544
URL;VALUE=URI:https://www.highlandtrailscdd.org/calendar/8599323/highland-t
 rails-cdd-meeting-may-2026
DTSTART:20260504T220000Z
DTEND:20260504T230000Z
END:VEVENT
END:VCALENDAR
